BEGIN:VCALENDAR
VERSION:2.0
PRODID:-//Sterk in Contact Academie - ECPv6.15.20//NONSGML v1.0//EN
CALSCALE:GREGORIAN
METHOD:PUBLISH
X-ORIGINAL-URL:https://sterkincontact-academie.nl
X-WR-CALDESC:Evenementen voor Sterk in Contact Academie
REFRESH-INTERVAL;VALUE=DURATION:PT1H
X-Robots-Tag:noindex
X-PUBLISHED-TTL:PT1H
BEGIN:VTIMEZONE
TZID:Europe/Paris
BEGIN:DAYLIGHT
TZOFFSETFROM:+0100
TZOFFSETTO:+0200
TZNAME:CEST
DTSTART:20250330T010000
END:DAYLIGHT
BEGIN:STANDARD
TZOFFSETFROM:+0200
TZOFFSETTO:+0100
TZNAME:CET
DTSTART:20251026T010000
END:STANDARD
BEGIN:DAYLIGHT
TZOFFSETFROM:+0100
TZOFFSETTO:+0200
TZNAME:CEST
DTSTART:20260329T010000
END:DAYLIGHT
BEGIN:STANDARD
TZOFFSETFROM:+0200
TZOFFSETTO:+0100
TZNAME:CET
DTSTART:20261025T010000
END:STANDARD
BEGIN:DAYLIGHT
TZOFFSETFROM:+0100
TZOFFSETTO:+0200
TZNAME:CEST
DTSTART:20270328T010000
END:DAYLIGHT
BEGIN:STANDARD
TZOFFSETFROM:+0200
TZOFFSETTO:+0100
TZNAME:CET
DTSTART:20271031T010000
END:STANDARD
END:VTIMEZONE
BEGIN:VEVENT
DTSTART;TZID=Europe/Paris:20260911T093000
DTEND;TZID=Europe/Paris:20260911T170000
DTSTAMP:20260420T002342
CREATED:20260325T104523Z
LAST-MODIFIED:20260325T105517Z
UID:364-1789119000-1789146000@sterkincontact-academie.nl
SUMMARY:Fysieke & mentale weerbaarheid voor zorgprofessionals
DESCRIPTION:Veilig in contact | van stressreactie naar effectieve actie \nGeaccrediteerd door de V&VN (6 accreditatiepunten) \nWerken in de zorg betekent professioneel blijven handelen in situaties waarin spanning kan oplopen. In deze eendaagse training leren zorgprofessionals wat er in brein en lichaam gebeurt onder stress en hoe zij rust\, regie en veiligheid behouden. \nWe combineren kennis over stressreacties met praktische regulatie- en de-escalatietechnieken. Deelnemers leren hun eigen stresssignalen herkennen\, effectief communiceren onder druk\, professioneel grenzen stellen en veilig handelen in lastige situaties. \nInteractief\, praktijkgericht en direct toepasbaar op de werkvloer. \nDe training wordt verzorgd door psychotherapeut Elsbeth de Jong en weerbaarheidscoach Esmee Unterer. Een krachtige combinatie van psychologische diepgang en praktische expertise. \nAan het einde van de training ontvang je een certificaat voor bewijs van deelname. \nKoop nu je ticket: Fysieke en Mentale Weerbaarheidstraining voor Zorgprofessionals (11 September 2026))
URL:https://sterkincontact-academie.nl/event/fysieke-mentale-weerbaarheid-voor-zorgprofessionals-2/
LOCATION:Sterk in Contact Academie\, Dreef 14\, Zutphen\, 7202AG\, Netherlands
ATTACH;FMTTYPE=image/jpeg:https://sterkincontact-academie.nl/wp-content/uploads/2026/02/depression-3912748_1280.jpg
ORGANIZER;CN="Sterk in Contact Academie":MAILTO:info@sterkincontact-academie.nl
END:VEVENT
BEGIN:VEVENT
DTSTART;TZID=Europe/Paris:20261113T093000
DTEND;TZID=Europe/Paris:20261113T170000
DTSTAMP:20260420T002342
CREATED:20260325T104813Z
LAST-MODIFIED:20260325T105610Z
UID:368-1794562200-1794589200@sterkincontact-academie.nl
SUMMARY:Fysieke & mentale weerbaarheid voor zorgprofessionals
DESCRIPTION:Veilig in contact | van stressreactie naar effectieve actie \nGeaccrediteerd door de V&VN (6 accreditatiepunten) \nWerken in de zorg betekent professioneel blijven handelen in situaties waarin spanning kan oplopen. In deze eendaagse training leren zorgprofessionals wat er in brein en lichaam gebeurt onder stress en hoe zij rust\, regie en veiligheid behouden. \nWe combineren kennis over stressreacties met praktische regulatie- en de-escalatietechnieken. Deelnemers leren hun eigen stresssignalen herkennen\, effectief communiceren onder druk\, professioneel grenzen stellen en veilig handelen in lastige situaties. \nInteractief\, praktijkgericht en direct toepasbaar op de werkvloer. \nDe training wordt verzorgd door psychotherapeut Elsbeth de Jong en weerbaarheidscoach Esmee Unterer. Een krachtige combinatie van psychologische diepgang en praktische expertise. \nAan het einde van de training ontvang je een certificaat voor bewijs van deelname. \nKoop nu je ticket: Fysieke en Mentale Weerbaarheidstraining voor Zorgprofessionals (13 November 2026)
URL:https://sterkincontact-academie.nl/event/fysieke-mentale-weerbaarheid-voor-zorgprofessionals-3/
LOCATION:Sterk in Contact Academie\, Dreef 14\, Zutphen\, 7202AG\, Netherlands
ATTACH;FMTTYPE=image/jpeg:https://sterkincontact-academie.nl/wp-content/uploads/2026/02/depression-3912748_1280.jpg
ORGANIZER;CN="Sterk in Contact Academie":MAILTO:info@sterkincontact-academie.nl
END:VEVENT
END:VCALENDAR